Workbook
Name Запрос_из_bud2008: 'приложение 2'!#REF!
Name Запрос_из_bud2008: 'приложение 3'!#REF!
Name Запрос_из_BUDGET_2010_12: 'приложение 2'!#REF!
Name Запрос_из_BUDGET_2010_12: 'приложение 3'!#REF!

Sheet приложение 1
B1: Приложение № 1
B2: к решению Совета депутатов
B3: Бабеевского сельского поселения
B4: от " 28" декабря 2023 года № 114
A6: Объем поступлений доходов бюджета по основным источникам на 2024-2026гг
A8: Код бюджетной классификации доходов бюджета | B8: Наименование доходов | C8: 2024г. (тыс.руб.) | D8: 2025г. (тыс.руб.) | E8: 2026г. (тыс.руб.)
A9: 1 | B9: 2
A10: 000 1000000000 0000 000 | B10: НАЛОГОВЫЕ И НЕНАЛОГОВЫЕ ДОХОДЫ | C10: =C11+C16 -> 1345.9 | D10: =D11+D16 -> 1332.6 | E10: =E11+E16 -> 1332.1
A11: 000 1010000000 0000 000 | B11: НАЛОГОВЫЕ ДОХОДЫ | C11: =C12+C13+C14+C15 -> 1252.6 | D11: =D12+D13+D14+D15 -> 1235.6 | E11: =E12+E13+E14+E15 -> 1231.2
A12: 182 1 01 020100 11 000 110 | B12: Налог на доходы физических лиц | C12: 89.1 | D12: 97 | E12: 104.7
A13: 182 1 06 060100 11 000 110 | B13: Земельный налог | C13: 1069.9 | D13: 1061.8 | E13: 1049.6
A14: 182 1 06 030100 11 000 110 | B14: Налог на имущество физ.лиц | C14: 74.2 | D14: 74.4 | E14: 74.4
A15: 182 1 05 030100 11 000 110 | B15: Единый сельскохозяйственный налог | C15: 19.4 | D15: 2.4 | E15: 2.5
A16: 000 1110000000 0000 000 | B16: НЕНАЛОГОВЫЕ ДОХОДЫ | C16: =C17+C18+C19 -> 93.3 | D16: =D17 -> 97 | E16: =E17 -> 100.9
A17: 912 1 11 05025 10 0000 120 | B17: Доходы от арендной платы за земли | C17: 93.3 | D17: 97 | E17: 100.9
A18: 912 1 14 06025 10 0000 430 | B18: Доходы от продажи земельных участков, находящихся в собственности сельских поселений (за исключением земельных участков муниципальных бюджетных и автономных учреждений)
A19: 912 1 17 14030 10 0000 150 | B19: Средства самообложения граждан, зачисляемые в бюджеты сельских поселений
A20: 2 02 00000 00 0000 000 | B20: Безвозмездные поступления от других бюджетов бюджетной системы Российской Федерации | C20: =C21+C24+C27+C33+C34 -> 4237.7 | D20: =D21+D24+D27+D33 -> 3103.8 | E20: =E21+E24+E27+E33 -> 3125.2
A21: 2 02 10000 00 0000 150 | B21: Дотации бюджетам субъектов Российской Федерации и муниципальных образований | C21: =C22+C23 -> 824.6 | D21: =D22 -> 676.9 | E21: =E22 -> 684.1
A22: 2 02 15001 00 0000 150 | B22: Дотации на выравнивание бюджетной обеспеченности | C22: 824.6 | D22: 676.9 | E22: 684.1
A23: 2 02 150021 10 0000 150 | B23: Дотации на сбалансированность сельских поселений
A24: 2 02 20000 00 0000 150 | B24: Субсидии бюджетам бюджетной системы Российской Федерации (межбюджетные субсидии) | C24: =C26+C25 -> 1200.3 | D24: =D26 -> 200.3 | E24: =E26 -> 200.3
A25: 2 02 25576 10 0000 150 | B25: Субсидии бюджетам сельских поселений на обеспечение комплексного развития сельских территорий | C25: 1000
A26: 2 02 29999 10 0000 150 | B26: Прочие субсидии бюджетам сельских поселений | C26: 200.3 | D26: 200.3 | E26: 200.3
A27: 2 02 30000 00 0000 150 | B27: Субвенции бюджетам субъектов Российской Федерации и муниципальных образований | C27: =C28+C30 -> 132.8 | D27: =D28+D30 -> 146.6 | E27: =E28+E30 -> 160.8
A28: 2 02 35118 00 0000 150 | B28: Субвенции бюджетам на осуществление госполномочий по первичному воинскому учету на территориях, где отсутствуют военные комиссариаты в рамках Государственной программы повышения эффективности управлениягосударственными финансами в РМ | C28: =C29 -> 131.9 | D28: =D29 -> 145.7 | E28: =E29 -> 159.8
A29: 2 02 35118 10 0000 150 | B29: Субвенции бюджетам на осуществление госполномочий по первичному воинскому учету на территориях, где отсутствуют военные комиссариаты в рамках Государственной программы повышения эффективности управлениягосударственными финансами в РМ | C29: 131.9 | D29: 145.7 | E29: 159.8
A30: 2 02 30024 00 0000 150 | B30: Субвенции местным бюджетам на выполнение передаваемых полномочий субъектов Российской Федерации | C30: =C31 -> 0.9 | D30: =D31 -> 0.9 | E30: =E31 -> 1
A31: 2 02 30024 10 0000 150 | B31: Субвенции бюджетам сельских поселений на реализацию государственных полномочий по определению перечня должностных лиц, уполномоченных составлять протоколы об административных правонарушениях | C31: 0.9 | D31: 0.9 | E31: 1
A32: 2 02 29999 00 0000 150 | B32: Субсидии на реализацию мероприятий по строительству и (или) реконструкции объектов инфраструктуры, необходимых для реализации новых инвестиционных проектов в монопрофильных муниципальных образованиях в Республике Мордовия
A33: 2 02 40000 00 0000 150 | B33: Иные межбюджетные трансферты | C33: =SUM(C35:C35+C36) -> 2080 | D33: =SUM(D35:D35) -> 2080 | E33: =SUM(E35+I34) -> 2080
A34: 2024001411000150 | B34: Прочие межбюджетные трансферты, передаваемые бюджетам сельских поселений для осуществления части полномочий по решению вопросов местного значения
A35: 2 02 40014 10 0000 150 | B35: Межбюджетные трансферты, передаваемые бюджетам сельских поселений для осуществления части полномочий по решению вопросов местного значения | C35: 2080 | D35: 2080 | E35: 2080
A36: 2 02 49999 10 0000 150 | B36: Прочие межбюджетные трансферты, передаваемые бюджетам сельских поселений
A37: ИТОГО ДОХОДОВ | C37: =C20+C10 -> 5583.6 | D37: =D10+D20 -> 4436.4 | E37: =E10+E20 -> 4457.3

Sheet приложение 2
B1: Приложение №2 к решению сессии Совета депутатов Бабеевского сельского поселения
B2: № 115 от " 28" декабря 2023 года
A4: РАСПРЕДЕЛЕНИЕ БЮДЖЕТНЫХ АССИГНОВАНИЙ БЮДЖЕТА БАБЕВСКОГО СЕЛЬСКОГО ПОСЕЛЕНИЯ ТЕМНИКОВСКОГО МУНИЦИПАЛЬНОГО РАЙОНА РЕСПУБЛИКИ МОРДОВИЯ ПО РАЗДЕЛАМ, ПОДРАЗДЕЛАМ, ЦЕЛЕВЫМ СТАТЬЯМ (ГОСУДАРСТВЕННЫМ ПРОГРАММАМ И НЕПРОГРАММНЫМ НАПРАВЛЕНИЯМ ДЕЯТЕЛЬНОСТИ), ГРУППАМ (ГРУППАМ И ПОДГРУППАМ) ВИДОВ РАСХОДОВ КЛАССИФИКАЦИИ РАСХОДОВ БЮДЖЕТОВ НА 2024 ГОД И ПЛАНОВЫЙ ПЕРИОД 2025-2026ГГ
K5: тыс.рублей
B6: РЗ | C6: ПРЗ | D6: ЦСР | H6: ВР | I6: 2024 | J6: 2025 | K6: 2025 | L6: 2026
A7: 1 | B7: 2 | C7: 3 | D7: 4 | E7: 5 | F7: 6 | G7: 7 | H7: 8 | I7: 9
A8: ВСЕГО | I8: =I9 -> 5390.9 | J8: =J9 -> 3 | K8: =K9 -> 4179.4 | L8: =L9 -> 4136.1
A9: Администрация сельского поселения | I9: =I10+I85+I97+I109+I117+I159+I167 -> 5390.9 | J9: =J10+J85+J97+J109+J117+J159+J167+J33 -> 3 | K9: =K10+K85+K97+K109+K117+K159+K167 -> 4179.4 | L9: =L10+L85+L97+L109+L117+L159+L167 -> 4136.1
A10: Общегосударственные вопросы | B10: 01 | I10: =I11+I24+I66+I71+I77 -> 2776.3 | J10: =J11+J24+J70 -> 1 | K10: =K11+K24+K66+K71+K77 -> 1365.4 | L10: =L11+L24+L66+L71+L77 -> 1300.3
A11: Функционирование высшего должностного лица субъекта РФ и муниципального образавания | B11: 01 | C11: 02 | I11: =I12 -> 483 | J11: =J12 -> 0 | K11: =K12 -> 290 | L11: =L12 -> 240
A12: Обеспечение деятельности администрации | B12: 01 | C12: 02 | D12: 65 | I12: =I13 -> 483 | J12: =J13 -> 0 | K12: =K13 -> 290 | L12: =L13 -> 240
A13: Глава, аппарат администрации | B13: 01 | C13: 02 | D13: 65 | E13: 1 | F13: 00 | I13: =I14+I19 -> 483 | J13: =J14+J19 -> 0 | K13: =K14+K19 -> 290 | L13: =L14+L19 -> 240
A14: Расходы на выплаты по оплате труда высшего должностного лица | B14: 01 | C14: 02 | D14: 65 | E14: 1 | F14: 00 | G14: 41150 | I14: =I15 -> 295 | J14: =J17+J18 -> 0 | K14: =K17+K18 -> 290 | L14: =L17+L18 -> 240
A15: Расходы на выплаты персоналу в целях обеспечения выполнения функций государственными (муниципальными) органами, казенными учреждениями, органами управления государственными внебюджетными фондами | B15: 01 | C15: 02 | D15: 65 | E15: 1 | F15: 00 | G15: 41150 | H15: 100 | I15: =I16 -> 295 | J15: =J16 -> 0 | K15: =K16 -> 290 | L15: =L16 -> 240
A16: Расходы на выплаты персоналу государственных (муниципальных) органов | B16: 01 | C16: 02 | D16: 65 | E16: 1 | F16: 00 | G16: 41150 | H16: 120 | I16: =I17+I18 -> 295 | J16: =J17+J18 -> 0 | K16: =K17+K18 -> 290 | L16: =L17+L18 -> 240
A17: Расходы на выплаты по оплате труда высшего должностного лица муниципального образования ( Главы) | B17: 01 | C17: 02 | D17: 65 | E17: 1 | F17: 00 | G17: 41150 | H17: 121 | I17: ='приложение 3'!J18 -> 227 | K17: ='приложение 3'!K18 -> 250 | L17: ='приложение 3'!L18 -> 200
A18: Фонд оплаты труда государственных (муниципальных) органов и взносы по обязательному социальному страхованию | B18: 01 | C18: 02 | D18: 65 | E18: 1 | F18: 00 | G18: 41150 | H18: 129 | I18: ='приложение 3'!J19 -> 68 | K18: ='приложение 3'!K19 -> 40 | L18: ='приложение 3'!L19 -> 40
A19: Субсидии выплачиваемые в зависимости от выполнения социально-экономических показателей | B19: 01 | C19: 02 | D19: 65 | E19: 1 | F19: 00 | G19: 44205 | I19: =I22+I23 -> 188 | J19: =J22+J23 -> 0 | K19: =K22+K23 -> 0 | L19: =L22+L23 -> 0
A20: Расходы на выплаты персоналу в целях обеспечения выполнения функций государственными (муниципальными) органами, казенными учреждениями, органами управления государственными внебюджетными фондами | B20: 01 | C20: 02 | D20: 65 | E20: 1 | F20: 00 | G20: 44205 | H20: 100 | I20: =I21 -> 188 | J20: =J21 -> 0 | K20: =K21 -> 0 | L20: =L21 -> 0
A21: Расходы на выплаты персоналу государственных (муниципальных) органов | B21: 01 | C21: 02 | D21: 65 | E21: 1 | F21: 00 | G21: 44205 | H21: 120 | I21: =I22+I23 -> 188 | J21: =J22+J23 -> 0 | K21: =K22+K23 -> 0 | L21: =L22+L23 -> 0
A22: Расходы на выплаты по оплате труда высшего должностного лица муниципального образования ( Главы) | B22: 01 | C22: 02 | D22: 65 | E22: 1 | F22: 00 | G22: 44205 | H22: 121 | I22: ='приложение 3'!J23 -> 150 | K22: ='приложение 3'!K23 -> 0 | L22: ='приложение 3'!L23 -> 0
A23: Фонд оплаты труда государственных (муниципальных) органов и взносы по обязательному социальному страхованию | B23: 01 | C23: 02 | D23: 65 | E23: 1 | F23: 00 | G23: 44205 | H23: 129 | I23: ='приложение 3'!J24 -> 38 | K23: ='приложение 3'!K24 -> 0 | L23: ='приложение 3'!L24 -> 0
A24: Функционирование Правительства Российской Федерации, высших органов исполнительной власти субъектов Российской Федерации, местных администраций | B24: 01 | C24: 04 | I24: =I25+I60 -> 2266.3 | J24: =J25+J60 -> 0 | K24: =K25+K60 -> 1048.4 | L24: =L25+L60 -> 1033.3
A25: Обеспечение деятельности администрации | B25: 01 | C25: 04 | D25: 65 | I25: =I26+I46 -> 2265.4 | J25: =J26+J46 -> 0 | K25: =K26+K46 -> 1047.5 | L25: =L26+L46 -> 1032.3
A26: Деятельность аппарата администрации Темниковского муниципального района | B26: 01 | C26: 04 | D26: 65 | E26: 1 | I26: =I27 -> 1453.4 | J26: =J27 -> 0 | K26: =K27 -> 1047.5 | L26: =L27 -> 1032.3
A27: Расходы на выплаты по оплате труда работников органов местного самоуправления Республики Мордовия | B27: 01 | C27: 04 | D27: 65 | E27: 1 | F27: 00 | I27: =I28+I33 -> 1453.4 | J27: =J31+J32 -> 0 | K27: =K28+K33 -> 1047.5 | L27: =L28+L33 -> 1032.3
A28: Расходы на выплаты по оплате труда работников органов местного самоуправления | B28: 01 | C28: 04 | D28: 65 | E28: 1 | F28: 00 | G28: 41110 | I28: =I29 -> 1052.3 | J28: =J29 -> 0 | K28: =K29 -> 861.5 | L28: =L29 -> 781
A29: Расходы на выплаты персоналу в целях обеспечения выполнения функций государственными (муниципальными) органами, казенными учреждениями, органами управления государственными внебюджетными фондами | B29: 01 | C29: 04 | D29: 65 | E29: 1 | F29: 00 | G29: 41110 | H29: 100 | I29: =I30 -> 1052.3 | J29: =J30 -> 0 | K29: =K30 -> 861.5 | L29: =L30 -> 781
A30: Расходы на выплаты персоналу государственных (муниципальных) органов | B30: 01 | C30: 04 | D30: 65 | E30: 1 | F30: 00 | G30: 41110 | H30: 120 | I30: =I31+I32 -> 1052.3 | J30: =J31+J32 -> 0 | K30: =K31+K32 -> 861.5 | L30: =L31+L32 -> 781
A31: Фонд оплаты труда государственных (муниципальных) органов и взносы по обязательному социальному страхованию | B31: 01 | C31: 04 | D31: 65 | E31: 1 | F31: 00 | G31: 41110 | H31: 121 | I31: ='приложение 3'!J32 -> 872 | K31: ='приложение 3'!K32 -> 681.5 | L31: ='приложение 3'!L32 -> 642
A32: Взносы по обязательному социальному страхованию на выплаты денежного содержания и иные выплаты работникам государственных(муниципальных) органов | B32: 01 | C32: 04 | D32: 65 | E32: 1 | F32: 00 | G32: 41110 | H32: 129 | I32: ='приложение 3'!J33 -> 180.3 | K32: ='приложение 3'!K33 -> 180 | L32: ='приложение 3'!L33 -> 139
A33: Расходы на обеспечение функцийорганов местного самоуправления | B33: 01 | C33: 04 | D33: 65 | E33: 1 | F33: 00 | G33: 41120 | I33: =I34+I39 -> 401.1 | J33: =J36+J43+J44+J45+J41+J37 -> 2 | K33: =K34+K39 -> 186 | L33: =L34+L39 -> 251.3
A34: Закупка товаров, работ и услуг для обеспечения государственных (муниципальных) нужд | B34: 01 | C34: 04 | D34: 65 | E34: 1 | F34: 00 | G34: 41120 | H34: 200 | I34: =I35 -> 390 | J34: =J35 -> 100 | K34: =K35 -> 130 | L34: =L35 -> 231.2
A35: Иные закупки товаров, работ и услуг для обеспечения государственных (муниципальных) нужд | B35: 01 | C35: 04 | D35: 65 | E35: 1 | F35: 00 | G35: 41120 | H35: 240 | I35: =I36+I37+I38 -> 390 | J35: =J36+J37+J38 -> 100 | K35: =K36+K37+K38 -> 130 | L35: =L36+L37+L38 -> 231.2
A36: Прочая закупка товаров, работ и услуг | B36: 01 | C36: 04 | D36: 65 | E36: 1 | F36: 00 | G36: 41120 | H36: 244 | I36: ='приложение 3'!J37 -> 200 | K36: ='приложение 3'!K37+10 -> 30 | L36: ='приложение 3'!L37 -> 198.3
A37: Закупка товаров, работ и услуг для обеспечения государственных (муниципальных) нужд в области геодезии и картографии вне рамок государственного оборонного заказа | B37: 01 | C37: 04 | D37: 65 | E37: 1 | F37: 00 | G37: 41120 | H37: 245 | I37: ='приложение 3'!J38 -> 10 | J37: ='приложение 3'!K38 -> 0 | K37: ='приложение 3'!L38 -> 0 | L37: ='приложение 3'!M38 -> 0
A38: Закупка энергетических ресурсов | B38: 01 | C38: 04 | D38: 65 | E38: 1 | F38: 00 | G38: 41120 | H38: 247 | I38: ='приложение 3'!J39 -> 180 | J38: ='приложение 3'!K39 -> 100 | K38: ='приложение 3'!K39 -> 100 | L38: ='приложение 3'!L39 -> 32.9
A39: Иные бюджетные ассигнования | B39: 01 | C39: 04 | D39: 65 | E39: 1 | F39: 00 | G39: 41120 | H39: 800 | I39: =I40+I42 -> 11.1 | J39: =J40+J42 -> 2 | K39: =K40+K42 -> 56 | L39: =L40+L42 -> 20.1
A40: Исполнение судебных актов | B40: 01 | C40: 04 | D40: 65 | E40: 1 | F40: 00 | G40: 41120 | H40: 830 | I40: =I41 -> 0 | J40: =J41 -> 2 | K40: =K41 -> 2 | L40: =L41 -> 1
A41: Исполнение судебных актов Российской Федерации и мировых соглашений по возмещению причиненного вреда | B41: 01 | C41: 04 | D41: 65 | E41: 1 | F41: 00 | G41: 41120 | H41: 831 | I41: ='приложение 3'!J42 -> 0 | J41: ='приложение 3'!K42 -> 2 | K41: ='приложение 3'!K42 -> 2 | L41: ='приложение 3'!L42 -> 1
...

Sheet приложение 3
C1: Приложение №3 к решению сессси Совета депутатов Бабеевское сельского поселения
C2: № 114 от "28"декабря 2023года
A4: ВЕДОМСТВЕННАЯ СТРУКТУРА РАСХОДОВ БЮДЖЕТА БАБЕЕВСКОГО СЕЛЬСКОГО ПОСЕЛЕНИЯ ТЕМНИКОВСКОГО МУНИЦИПАЛЬНОГО РАЙОНА РЕСПУБЛИКИ МОРДОВИЯ НА 2024-2026гг.
L5: тыс.рублей
A6: Наименование | B6: Адм | C6: РЗ | D6: ПРЗ | E6: ЦСР | I6: ВР
J7: 2024 | K7: 2025 | L7: 2026
A8: 1 | B8: 2 | C8: 3 | D8: 4 | E8: 5 | F8: 6 | G8: 7 | H8: 8 | I8: 9 | J8: 10 | K8: 11 | L8: 12
A9: ВСЕГО | B9: 912 | J9: =J10 -> 5390.9 | K9: =K10 -> 4179.4 | L9: =L10 -> 4136.1
A10: Администрация сельского поселения | B10: 912 | J10: =J11+J86+J97+J109+J117+J161+J169 -> 5390.9 | K10: =K11+K86+K97+K109+K117+K161+K169+K184 -> 4179.4 | L10: =L11+L86+L97+L109+L117+L161+L169 -> 4136.1
A11: Общегосударственные вопросы | B11: 912 | C11: 01 | J11: =J12+J25+J67+J72+J78 -> 2776.3 | K11: =K12+K25+K67+K72+K78 -> 1355.4 | L11: =L12+L25+L67+L72+L78 -> 1300.3
A12: Функционирование высшего должностного лица субъекта РФ и муниципального образавания | B12: 912 | C12: 01 | D12: 02 | J12: =J13 -> 483 | K12: =K13 -> 290 | L12: =L13 -> 240
A13: Обеспечение деятельности администрации | B13: 912 | C13: 01 | D13: 02 | E13: 65 | J13: =J14 -> 483 | K13: =K14 -> 290 | L13: =L14 -> 240
A14: Глава, аппарат администрации | B14: 912 | C14: 01 | D14: 02 | E14: 65 | F14: 1 | G14: 00 | J14: =J15+J20 -> 483 | K14: =K15+K20 -> 290 | L14: =L15+L20 -> 240
A15: Расходы на выплаты по оплате труда высшего должностного лица | B15: 912 | C15: 01 | D15: 02 | E15: 65 | F15: 1 | G15: 00 | H15: 41150 | J15: =J16 -> 295 | K15: =K16 -> 290 | L15: =L16 -> 240 | M15: =J15+J20+J29+J34+J47+J63+J69+J75+J81+J89+J101+J105+J113+J126+J133+J145+J165+J173+J180 -> 5164.2
A16: Расходы на выплаты персоналу в целях обеспечения выполнения функций государственными (муниципальными) органами, казенными учреждениями, органами управления государственными внебюджетными фондами | B16: 912 | C16: 01 | D16: 02 | E16: 65 | F16: 1 | G16: 00 | H16: 41150 | I16: 100 | J16: =J17 -> 295 | K16: =K17 -> 290 | L16: =L17 -> 240
A17: Расходы на выплаты персоналу государственных (муниципальных) органов | B17: 912 | C17: 01 | D17: 02 | E17: 65 | F17: 1 | G17: 00 | H17: 41150 | I17: 120 | J17: =J18+J19 -> 295 | K17: =K18+K19 -> 290 | L17: =L18+L19 -> 240 | M17: =J17+J22+J31+J36+J41+J43+J49+J54+J58+J65+J70+J77+J83+J91+J95+J103+J107+J115+J128+J135+J147+J151+J155+J159+J167+J175+J182 -> 5184.2
A18: Фонд оплаты труда государственных (муниципальных) органов | B18: 912 | C18: 01 | D18: 02 | E18: 65 | F18: 1 | G18: 00 | H18: 41150 | I18: 121 | J18: 227 | K18: 250 | L18: 200 | M18: =J18+J19+J23+J24+J32+J33+J37+J38+J39+J42+J44+J45+J46+J50+J51+J52+J55+J56+J59+J60+J66+J71+J77+J84+J92+J93+J96+J104+J108+J116+J129+J136+J148+J152+J156+J160+#REF!+J168+J176+#REF!+J183 -> #REF!
A19: Взносы по обязательному социальному страхованию на выплаты денежного содержания и иные выплаты работникам государственных(муниципальных) органов | B19: 912 | C19: 01 | D19: 02 | E19: 65 | F19: 1 | G19: 00 | H19: 41150 | I19: 129 | J19: 68 | K19: 40 | L19: 40
A20: Субсидии выплачиваемые в зависимости от выполнения социально-экономических показателей | B20: 912 | C20: 01 | D20: 02 | E20: 65 | F20: 1 | G20: 00 | H20: 44205 | J20: =J21 -> 188 | K20: =K21 -> 0 | L20: =L21 -> 0
A21: Расходы на выплаты персоналу в целях обеспечения выполнения функций государственными (муниципальными) органами, казенными учреждениями, органами управления государственными внебюджетными фондами | B21: 912 | C21: 01 | D21: 02 | E21: 65 | F21: 1 | G21: 00 | H21: 44205 | I21: 100 | J21: =J22 -> 188 | K21: =K22 -> 0 | L21: =L22 -> 0 | M21: =J16+J21+J30+J35+J40+J48+J53+J57+J64+J70+J76+J82+J90+J94+J102+J106+J114+J127+J134+J146+J150+J154+J158+J166+J174+J181 -> 5184.2
A22: Расходы на выплаты персоналу государственных (муниципальных) органов | B22: 912 | C22: 01 | D22: 02 | E22: 65 | F22: 1 | G22: 00 | H22: 44205 | I22: 120 | J22: =J23+J24 -> 188 | K22: =K23+K24 -> 0 | L22: =L23+L24 -> 0
A23: Фонд оплаты труда государственных (муниципальных) органов | B23: 912 | C23: 01 | D23: 02 | E23: 65 | F23: 1 | G23: 00 | H23: 44205 | I23: 121 | J23: 150
A24: Взносы по обязательному социальному страхованию на выплаты денежного содержания и иные выплаты работникам государственных(муниципальных) органов | B24: 912 | C24: 01 | D24: 02 | E24: 65 | F24: 1 | G24: 00 | H24: 44205 | I24: 129 | J24: 38
A25: Функционирование Правительства Российской Федерации, высших органов исполнительной власти субъектов Российской Федерации, местных администраций | B25: 912 | C25: 01 | D25: 04 | J25: =J26+J61 -> 2266.3 | K25: =K26+K61 -> 1038.4 | L25: =L26+L61 -> 1033.3
A26: Обеспечение деятельности администрации | B26: 912 | C26: 01 | D26: 04 | E26: 65 | J26: =J27 -> 2265.4 | K26: =K27+K47 -> 1037.5 | L26: =L27+L47 -> 1032.3
A27: Деятельность аппарата администрации Темниковского муниципального района | B27: 912 | C27: 01 | D27: 04 | E27: 65 | F27: 1 | J27: =J28 -> 2265.4 | K27: =K28+K34 -> 1037.5 | L27: =L28+L34 -> 1032.3 | M27: =J23+J24+J50+J51+J52+J55+J56+J59+J60 -> 1000
A28: Расходы на выплаты по оплате труда работников органов местного самоуправления Республики Мордовия | B28: 912 | C28: 01 | D28: 04 | E28: 65 | F28: 1 | G28: 00 | J28: =J29+J34+J47 -> 2265.4 | K28: =K32+K33 -> 861.5 | L28: =L32+L33 -> 781
A29: Расходы на выплаты по оплате труда работников органов местного самоуправления | B29: 912 | C29: 01 | D29: 04 | E29: 65 | F29: 1 | G29: 00 | H29: 41110 | J29: =J30 -> 1052.3 | K29: =K30 -> 861.5 | L29: =L30 -> 781
A30: Расходы на выплаты персоналу в целях обеспечения выполнения функций государственными (муниципальными) органами, казенными учреждениями, органами управления государственными внебюджетными фондами | B30: 912 | C30: 01 | D30: 04 | E30: 65 | F30: 1 | G30: 00 | H30: 41110 | I30: 100 | J30: =J31 -> 1052.3 | K30: =K31 -> 861.5 | L30: =L31 -> 781
A31: Расходы на выплаты персоналу государственных (муниципальных) органов | B31: 912 | C31: 01 | D31: 04 | E31: 65 | F31: 1 | G31: 00 | H31: 41110 | I31: 120 | J31: =J32+J33 -> 1052.3 | K31: =K32+K33 -> 861.5 | L31: =L32+L33 -> 781
A32: Фонд оплаты труда государственных (муниципальных) органов | B32: 912 | C32: 01 | D32: 04 | E32: 65 | F32: 1 | G32: 00 | H32: 41110 | I32: 121 | J32: 872 | K32: =800-118.5 -> 681.5 | L32: =460+182 -> 642
A33: Взносы по обязательному социальному страхованию на выплаты денежного содержания и иные выплаты работникам государственных(муниципальных) органов | B33: 912 | C33: 01 | D33: 04 | E33: 65 | F33: 1 | G33: 00 | H33: 41110 | I33: 129 | J33: =260-79.7 -> 180.3 | K33: 180 | L33: 139
A34: Расходы на обеспечение функций органов местного самоуправления | B34: 912 | C34: 01 | D34: 04 | E34: 65 | F34: 1 | G34: 00 | H34: 41120 | J34: =J35+J40 -> 401.1 | K34: =K35+K40 -> 176 | L34: =L35+L40 -> 251.3
A35: Закупка товаров, работ и услуг для обеспечения государственных (муниципальных) нужд | B35: 912 | C35: 01 | D35: 04 | E35: 65 | F35: 1 | G35: 00 | H35: 41120 | I35: 200 | J35: =J36 -> 390 | K35: =K36 -> 120 | L35: =L36 -> 231.2
A36: Иные закупки товаров, работ и услуг для обеспечения государственных (муниципальных) нужд | B36: 912 | C36: 01 | D36: 04 | E36: 65 | F36: 1 | G36: 00 | H36: 41120 | I36: 240 | J36: =J37+J38+J39 -> 390 | K36: =K37+K38+K39 -> 120 | L36: =L37+L38+L39 -> 231.2
A37: Прочая закупка товаров, работ и услуг | B37: 912 | C37: 01 | D37: 04 | E37: 65 | F37: 1 | G37: 00 | H37: 41120 | I37: 244 | J37: 200 | K37: 20 | L37: 198.3 | N37: 3
A38: Закупка товаров, работ и услуг для обеспечения государственных (муниципальных) нужд в области геодезии и картографии вне рамок государственного оборонного заказа | B38: 912 | C38: 01 | D38: 04 | E38: 65 | F38: 1 | G38: 00 | H38: 41120 | I38: 245 | J38: 10 | K38: 0 | L38: 0
A39: Закупка энергетических ресурсов | B39: 912 | C39: 01 | D39: 04 | E39: 65 | F39: 1 | G39: 00 | H39: 41120 | I39: 247 | J39: 180 | K39: 100 | L39: =250-217.1 -> 32.9
A40: Иные бюджетные ассигнования | B40: 912 | C40: 01 | D40: 04 | E40: 65 | F40: 1 | G40: 00 | H40: 41120 | I40: 800 | J40: =J41+J43 -> 11.1 | K40: =K41+K43 -> 56 | L40: =L41+L43 -> 20.1
A41: Исполнение судебных актов | B41: 912 | C41: 01 | D41: 04 | E41: 65 | F41: 1 | G41: 00 | H41: 41120 | I41: 830 | J41: =J42 -> 0 | K41: =K42 -> 2 | L41: =L42 -> 1
...

Sheet приложение 4
I2: Приложение №4
B3: к решению Совета депутатов
B4: Бабеевского сельского поселения
D5: №114 от " 28" декабря 2023г
B8: РАСПРЕДЕЛЕНИЕ БЮДЖЕТНЫХ АССИГНОВАНИЙ БЮДЖЕТА БАБЕЕВСКОГО СЕЛЬСКОГО ПОСЕЛЕНИЯ ТЕМНИКОВСКОГО МУНИЦИПАЛЬНОГО РАЙОНА ПО ЦЕЛЕВЫМ СТАТЬЯМ (МУНИЦИПАЛЬНЫМ ПРОГРАММАМ И НЕПРОГРАММНЫМ НАПРАВЛЕНИЯМ ДЕЯТЕЛЬНОСТИ), ГРУППАМ (ГРУППАМ И ПОДГРУППАМ) ВИДОВ РАСХОДОВ КЛАССИФИКАЦИИ РАСХОДОВ БЮДЖЕТОВ, А ТАКЖЕ ПО РАЗДЕЛАМ И ПОДРАЗДЕЛАМ КЛАССИФИКАЦИИ РАСХОДОВ БЮДЖЕТОВ НА 2023 ГОД И ПЛАНОВЫЙ ПЕРИОД 2024-2025ГГ
K10: тыс.рублей
B11: Наименование | C11: ЦСР | G11: вр | H11: Рз | I11: ПРз | J11: Адм | K11: 2024 | L11: 2025 | M11: 2026
B13: 1 | C13: 2 | D13: 3 | E13: 5 | F13: 6 | H13: 7 | I13: 8 | J13: 9 | K13: 10 | L13: 11 | M13: 12
B14: ВСЕГО | K14: =K15+K43+K153 -> 5530.1 | L14: =L15+L153+L43 -> 4346.6 | M14: =M15+M153+M43 -> 4136.1
B15: Программные расходы | K15: =K16+K25+K34 -> 200.3 | L15: =L16+L25+L34 -> 200.3 | M15: =M16+M25+M34 -> 200.3
B16: Муниципальная целевая программа"Устройство контейнерных площадок и установка урн на территории Бабеевского сельского поселения на 2020 год" | C16: 10 | K16: =K17 -> 0 | L16: =L17 -> 0 | M16: =M17 -> 0
B17: Региональный проект "Комплексная система обращения с твёрдыми коммунальными отходами" | C17: 10 | D17: 0 | E17: G2 | K17: =K18 -> 0 | L17: =L18 -> 0 | M17: =M18 -> 0
B18: Создание (обустройство) мест (площадок) накопления (в том числе раздельного накопления) твердых коммунальных отходов и приобретение контейнеров и/или бункеров для накопления твердых коммунальных отходов | C18: 10 | D18: 0 | E18: G2 | F18: 76370 | K18: =K23 -> 0 | L18: =L23 -> 0 | M18: =M23 -> 0
B19: Закупка товаров, работ и услуг для обеспечения государственных (муниципальных) нужд | C19: 10 | D19: 0 | E19: G2 | F19: 76370 | G19: 200 | K19: =K20 -> 0 | L19: =L20 -> 0 | M19: =M20 -> 0
B20: Иные закупки товаров, работ и услуг для обеспечения государственных (муниципальных) нужд | C20: 10 | D20: 0 | E20: G2 | F20: 76370 | G20: 240 | K20: =K21 -> 0 | L20: =L21 -> 0 | M20: =M21 -> 0
B21: Прочая закупка товаров, работ и услуг | C21: 10 | D21: 0 | E21: G2 | F21: 76370 | G21: 244 | K21: =K22 -> 0 | L21: =L22 -> 0 | M21: =M22 -> 0
B22: Жилищно-коммунальное хозяйство | C22: 10 | D22: 0 | E22: G2 | F22: 76370 | G22: 244 | H22: 5 | K22: =K23 -> 0 | L22: =L23 -> 0 | M22: =M23 -> 0
B23: Благоустройство | C23: 10 | D23: 0 | E23: G2 | F23: 76370 | G23: 244 | H23: 05 | I23: 03 | K23: =K24 -> 0 | L23: =L24 -> 0 | M23: =M24 -> 0
B24: Администрация Бабеевского сельского поселения | C24: 10 | D24: 0 | E24: G2 | F24: 76370 | G24: 244 | H24: 05 | I24: 03 | J24: 912 | K24: ='приложение 3'!J136 -> 0 | L24: ='приложение 3'!K136 -> 0 | M24: ='приложение 3'!L136 -> 0
B25: Муниципальная программа «Энергосбережение и повышение энергетической эффективности на территории Бабеевского сельского поселения Темниковского муниципального района 2020-2024гг" | C25: 12 | K25: =K26 -> 200.3 | L25: =L26 -> 200.3 | M25: =M26 -> 200.3
B26: Мероприятие " Оформление прав собственности на бесхозяйные объекты инженерной инфраструктуры" | C26: 12 | D26: 0 | E26: 04 | K26: =K27 -> 200.3 | L26: =L27 -> 200.3 | M26: =M27 -> 200.3
B27: Оформление прав собственности на бесхозяйные объекты инженерной инфраструктуры | C27: 12 | D27: 0 | E27: 04 | F27: S6140 | K27: =K28 -> 200.3 | L27: =L28 -> 200.3 | M27: =M28 -> 200.3
B28: Закупка товаров, работ и услуг для обеспечения государственных (муниципальных) нужд | C28: 12 | D28: 0 | E28: 04 | F28: S6140 | G28: 200 | K28: =K29 -> 200.3 | L28: =L29 -> 200.3 | M28: =M29 -> 200.3
B29: Иные закупки товаров, работ и услуг для обеспечения государственных (муниципальных) нужд | C29: 12 | D29: 0 | E29: 04 | F29: S6140 | G29: 240 | K29: =K30 -> 200.3 | L29: =L30 -> 200.3 | M29: =M30 -> 200.3
B30: Прочая закупка товаров, работ и услуг | C30: 12 | D30: 0 | E30: 04 | F30: S6140 | G30: 244 | K30: =K31 -> 200.3 | L30: =L31 -> 200.3 | M30: =M31 -> 200.3
B31: Жилищно-коммунальное хозяйство | C31: 12 | D31: 0 | E31: 04 | F31: S6140 | G31: 244 | H31: 05 | K31: =K32 -> 200.3 | L31: =L32 -> 200.3 | M31: =M32 -> 200.3
B32: Благоустройство | C32: 12 | D32: 0 | E32: 04 | F32: S6140 | G32: 244 | H32: 05 | I32: 03 | K32: =K33 -> 200.3 | L32: =L33 -> 200.3 | M32: =M33 -> 200.3
B33: Администрация Бабеевского сельского поселения | C33: 12 | D33: 0 | E33: 04 | F33: S6140 | G33: 244 | H33: 05 | I33: 03 | J33: 912 | K33: ='приложение 3'!J123 -> 200.3 | L33: ='приложение 3'!K123 -> 200.3 | M33: ='приложение 3'!L123 -> 200.3
B34: Муниципальная программа «Комплексное развитие сельских территорий Темниковского муниципального района Республики Мордовия на 2017 – 2025 годы» | C34: 22 | K34: =K35 -> 0 | L34: =L35 -> 0 | M34: =M35 -> 0
B35: Основное мероприятие: Благоустройство территории Бабеевского сельского поселения | C35: 22 | D35: 0 | E35: 01 | K35: =K36 -> 0 | L35: =L36 -> 0 | M35: =M36 -> 0
B36: Благоустройство сельских территорий | C36: 22 | D36: 0 | E36: 01 | F36: L5764 | K36: =K37 -> 0 | L36: =L37 -> 0 | M36: =M37 -> 0
B37: Закупка товаров, работ и услуг для обеспечения государственных (муниципальных) нужд | C37: 22 | D37: 0 | E37: 01 | F37: L5764 | G37: 200 | K37: =K38 -> 0 | L37: =L38 -> 0 | M37: =M38 -> 0
B38: Иные закупки товаров, работ и услуг для обеспечения государственных (муниципальных) нужд | C38: 22 | D38: 0 | E38: 01 | F38: L5764 | G38: 240 | K38: =K39 -> 0 | L38: =L39 -> 0 | M38: =M39 -> 0
B39: Прочая закупка товаров, работ и услуг | C39: 22 | D39: 0 | E39: 01 | F39: L5764 | G39: 244 | K39: =K40 -> 0 | L39: =L40 -> 0 | M39: =M40 -> 0
B40: Жилищно-коммунальное хозяйство | C40: 22 | D40: 0 | E40: 01 | F40: L5764 | G40: 244 | H40: 05 | K40: =K41 -> 0 | L40: =L41 -> 0 | M40: =M41 -> 0
B41: Благоустройство | C41: 22 | D41: 0 | E41: 01 | F41: L5764 | G41: 244 | H41: 05 | I41: 03 | K41: =K42 -> 0 | L41: =L42 -> 0 | M41: =M42 -> 0
B42: Администрация Бабеевского сельского поселения | C42: 22 | D42: 0 | E42: 01 | F42: L5764 | G42: 244 | H42: 05 | I42: 03 | J42: 912 | K42: ='приложение 3'!J142 -> 0 | L42: ='приложение 3'!K142 -> 0 | M42: ='приложение 3'!L142 -> 0
B43: Обеспечение деятельности Администрации сельского поселения | C43: 65 | D43: 1 | K43: =K44 -> 2888.6 | L43: =L44 -> 1495.7 | M43: =M44 -> 1273.3
B44: Глава, аппарат администрации | C44: 65 | D44: 1 | E44: 00 | K44: =K45+K57+K68+K78+K112+K147 -> 2888.6 | L44: =L45+L57+L112+L152+L68+L80+L93 -> 1495.7 | M44: =M45+M57+M112+M152+M68+M80+M93 -> 1273.3
B45: Расходы на выплаты по оплате труда высшего должностного лица | C45: 65 | D45: 1 | E45: 00 | F45: 41150 | K45: =K46 -> 434.2 | L45: =L46 -> 457.2 | M45: =M46 -> 240
...

Sheet Приложение  5
B1: Приложение №5
B2: к решению Совета депутатов
B3: Бабеевского сельского поселения
B4: №114 от "28" декабря 2023 г.
A6: ИСТОЧНИКИ ВНУТРЕННЕГО ФИНАНСИРОВАНИЯ ДЕФИЦИТА БЮДЖЕТА БАБЕЕВСКОГО СЕЛЬСКОГО ПОСЕЛЕНИЯ ТЕМНИКОВСКОГО МУНИЦИПАЛЬНОГО РАЙОНА НА 2024 ГОД И ПЛАНОВЫЙ ПЕРИОД 2025 И 2026 ГОДОВ
E8: (тыс.рублей)
A9: Код | B9: Наименование кода группы, подгруппы, статьи, вида источника финансирования дефицитов бюджетов, кода классификации операций сектора государственного управления, относящихся к источникам финансирования дефицитов бюджетов Российской Федерации | C9: Сумма
C11: 2024 | D11: 2025 | E11: 2026
A12: 1 | B12: 2 | C12: 3
A13: 000 01 00 00 00 00 0000 000 | B13: ИСТОЧНИКИ ВНУТРЕННЕГО ФИНАНСИРОВАНИЯ ДЕФИЦИТОВ БЮДЖЕТОВ | C13: =C52 -> -192.7 | D13: =D52 -> -257 | E13: =E52 -> -321.2
A14: 000 01 02 00 00 00 0000 000 | B14: Кредиты кредитных организаций в валюте Российской Федерации | C14: =C15+C17 -> 0 | D14: =D15+D17 -> 0 | E14: =E15+E17 -> 0
A15: 000 01 02 00 00 00 0000 700 | B15: Получение кредитов от кредитных организаций в валюте Российской Федерации | C15: =C16 -> 0 | D15: =D16 -> 0 | E15: =E16 -> 0
A16: 000 01 02 00 00 05 0000 710 | B16: Получение кредитов от кредитных организаций бюджетами муниципальных районов в валюте Российской Федерации
A17: 000 01 02 00 00 00 0000 800 | B17: Погашение кредитов, предоставленных кредитными организациями в валюте Российской Федерации | C17: =C18 -> 0 | D17: =D18 -> 0 | E17: =E18 -> 0
A18: 000 01 02 00 00 05 0000 810 | B18: Погашение бюджетами муниципальных районов в валюте Российской Федерации
A19: 000 01 03 00 00 00 0000 000 | B19: Бюджетные кредиты от других бюджетов бюджетной системы Российской Федерации | C19: =C20 -> -192.7 | D19: =D20 -> -257 | E19: =E20 -> -321.2
A20: 000 01 03 01 00 00 0000 000 | B20: Бюджетные кредиты от других бюджетов бюджетной системы Российской Федерации в валюте Российской Федерации | C20: =C21+C24 -> -192.7 | D20: =D21+D24 -> -257 | E20: =E21+E24 -> -321.2
A21: 000 01 03 01 00 00 0000 700 | B21: Получение бюджетных кредитов от других бюджетов бюджетной системы Российской Федерации в валюте Российской Федерации | C21: =C22 -> 0 | D21: =D22 -> 0 | E21: =E22 -> 0
A22: 000 01 03 01 00 05 0000 710 | B22: Получение кредитов от других бюджетов бюджетной системы Российской Федерации бюджетами муниципальных районов в валюте Российской Федерации | C22: =C23 -> 0 | D22: =D23 -> 0 | E22: =E23 -> 0
A23: 000 01 03 01 00 05 0000 710 | B23: Получение кредитов от других бюджетов бюджетной системы Российской Федерации бюджетами муниципальных районов в валюте Российской Федерации на покрытие временного кассового разрыва, возникающего при исполнении бюджета муниципального района
A24: 000 01 03 01 00 00 0000 800 | B24: Погашение бюджетных кредитов, полученных от других бюджетов бюджетной системы Российской Федерации в валюте Российской Федерации | C24: =C25 -> -192.7 | D24: =D25 -> -257 | E24: =E25 -> -321.2
A25: 000 01 03 01 00 05 0000 810 | B25: Погашение бюджетами субъектов Российской Федерации кредитов от других бюджетов бюджетной системы Российской Федерации в валюте Российской Федерации | C25: =C26 -> -192.7 | D25: =D26 -> -257 | E25: =E26 -> -321.2
A26: 000 01 03 01 00 05 0000 810 | B26: Погашение бюджетами муниципальных районов кредитов от других бюджетов бюджетной системы Российской Федерации в валюте Российской Федерации, предоставленных на покрытие временного кассового разрыва, возникающего при исполнении бюджета муниципального района | C26: -192.7 | D26: -257 | E26: -321.2
A27: 000 01 05 00 00 00 0000 000 | B27: Изменение остатков средств на счетах по учету средств бюджетов | C27: =C28+C33 -> 0 | D27: =D28+D33 -> 0 | E27: =E28+E33 -> 0
A28: 000 01 05 00 00 00 0000 500 | B28: Увеличение остатков средств бюджетов | C28: =C29 -> -5583.6 | D28: =D29 -> -4436.4 | E28: =E29 -> -4457.3
A29: 000 01 05 02 00 00 0000 500 | B29: Увеличение прочих остатков средств бюджетов | C29: =C30 -> -5583.6 | D29: =D30 -> -4436.4 | E29: =E30 -> -4457.3
A30: 000 01 05 02 01 00 0000 510 | B30: Увеличение прочих остатков денежных средств бюджетов | C30: =C31 -> -5583.6 | D30: =D31 -> -4436.4 | E30: =E31 -> -4457.3
A31: 000 01 05 02 01 10 0000 510 | B31: Увеличение прочих остатков денежных средств бюджетов сельских поселений | C31: -5583.6 | D31: -4436.4 | E31: -4457.3
A33: 000 01 05 00 00 00 0000 600 | B33: Уменьшение остатков средств бюджетов | C33: =C34 -> 5583.6 | D33: =D34 -> 4436.4 | E33: =E34 -> 4457.3
A34: 000 01 05 02 00 00 0000 600 | B34: Уменьшение прочих остатков средств бюджетов | C34: =C35 -> 5583.6 | D34: =D35 -> 4436.4 | E34: =E35 -> 4457.3
A35: 000 01 05 02 01 00 0000 610 | B35: Уменьшение прочих остатков денежных средств бюджетов | C35: =C37 -> 5583.6 | D35: =D37 -> 4436.4 | E35: =E37 -> 4457.3
A37: 000 01 05 02 01 10 0000 610 | B37: Уменьшение прочих остатков денежных средств бюджетов сельских поселений | C37: =5390.9+192.7 -> 5583.6 | D37: =4179.4+257 -> 4436.4 | E37: 4457.3
A38: 000 01 06 00 00 00 0000 000 | B38: Иные источники внутреннего финансирования дефицитов бюджетов | C38: =C39+C42 -> 0 | D38: =D39+D42 -> 0 | E38: =E39+E42 -> 0
A39: 000 01 06 04 00 00 0000 000 | B39: Исполнение государственных и муниципальных гарантий | C39: =C40 -> 0 | D39: =D40 -> 0 | E39: =E40 -> 0
A40: 000 01 06 04 01 00 0000 000 | B40: Исполнение государственных и муниципальных гарантий в валюте Российской Федерации | C40: =C41 -> 0 | D40: =D41 -> 0 | E40: =E41 -> 0
A41: 000 01 06 04 01 05 0000 810 | B41: Исполнение муниципальных гарантий муниципальных районов в валюте Российской Федерации в случае, если исполнение гарантом муниципальных гарантий муниципальных районов ведет к возникновению права регрессного требования гаранта к принципиалу либо обусловлено уступкой гаранту прав требования бенефициара к принципалу | C41: 0 | D41: 0 | E41: 0
A42: 000 01 06 05 00 00 0000 000 | B42: Бюджетные кредиты, предоставленные внутри страны в валюте Российской Федерации | C42: =C43+C49 -> 0 | D42: =D43+D49 -> 0 | E42: =E43+E49 -> 0
A43: 000 01 06 05 00 00 0000 600 | B43: Возврат бюджетных кредитов, предоставленных внутри страны в валюте Российской Федерации | C43: =C44+C46 -> 0 | D43: =D44+D46 -> 0 | E43: =E44+E46 -> 0
A44: 000 01 06 05 01 00 0000 600 | B44: Возврат бюджетных кредитов, предоставленных юридическим лицам в валюте Российской Федерации | C44: =C45 -> 0 | D44: =D45 -> 0 | E44: =E45 -> 0
A45: 000 01 06 05 01 05 0000 640 | B45: Возврат бюджетных кредитов, предоставленных юридическим лицам из бюджетов муниципальных районов в валюте Российской Федерации | C45: 0 | D45: 0 | E45: 0
...

Sheet Приложение 6
B1: Приложение №6
B2: к решению Совета депутатов
B3: Бабеевского сельского поселения
B4: №114 от "28"декабря 2023 г.
A6: ПРОГРАММА МУНИЦИПАЛЬНЫХ ВНУТРЕННИХ ЗАИМСТВОВАНИЙ БАБЕЕВСКОЕ СЕЛЬСКОГО ПОСЕЛЕНИЯ ТЕМНИКОВСКОГО МУНИЦИПАЛЬНОГО РАЙОНА НА 2023 ГОД И ПЛАНОВЫЙ ПЕРИОД 2024 И 2025 ГОДОВ
C7: (тыс.рублей) | G7: (тыс. рублей)
A8: № п/п | B8: Виды заимствований | F8: Сумма
F9: 2024 | G9: 2025 | H9: 2026
A11: 1 | B11: Кредиты кредитных организаций в валюте Российской Федерации | F11: =F13+F14 -> 0 | G11: =G13+G14 -> 0 | H11: =H13+H14 -> 0
B12: в том числе:
B13: Объем привлечения | F13: ='[1]Приложение 5'!C53 -> 0 | G13: ='[1]Приложение 5'!D53 -> 0 | H13: ='[1]Приложение 5'!E53 -> 0
B14: Объем средств, направляемых на погашение основной суммы долга | F14: ='[1]Приложение 5'!C18 -> 0 | G14: ='[1]Приложение 5'!D18 -> 0 | H14: ='[1]Приложение 5'!E18 -> 0
A15: 2 | B15: Бюджетные кредиты от других бюджетов бюджетной системы Российской Федерации | F15: ='[1]Приложение 5'!C19 -> -128.5 | G15: ='[1]Приложение 5'!D19 -> -192.7 | H15: ='[1]Приложение 5'!E19 -> -257
B16: в том числе:
B17: Объем привлечения | F17: ='[1]Приложение 5'!C23 -> 0 | G17: ='[1]Приложение 5'!D23 -> 0 | H17: ='[1]Приложение 5'!E23 -> 0
B18: Объем средств, направляемых на погашение основной суммы долга | F18: ='[1]Приложение 5'!C24 -> -128.5 | G18: ='[1]Приложение 5'!D24 -> -192.7 | H18: ='[1]Приложение 5'!E24 -> -257
B19: Всего | F19: =F11+F15 -> -128.5 | G19: =G11+G15 -> -192.7 | H19: =H11+H15 -> -257
